BEGIN:VCALENDAR
VERSION:2.0
PRODID:-//OLI - ECPv5.14.0.4//NONSGML v1.0//EN
CALSCALE:GREGORIAN
METHOD:PUBLISH
X-WR-CALNAME:OLI
X-ORIGINAL-URL:https://oli.consiglio.regione.toscana.it
X-WR-CALDESC:Eventi per OLI
BEGIN:VTIMEZONE
TZID:Europe/Rome
BEGIN:DAYLIGHT
TZOFFSETFROM:+0100
TZOFFSETTO:+0200
TZNAME:CEST
DTSTART:20180325T010000
END:DAYLIGHT
BEGIN:STANDARD
TZOFFSETFROM:+0200
TZOFFSETTO:+0100
TZNAME:CET
DTSTART:20181028T010000
END:STANDARD
END:VTIMEZONE
BEGIN:VEVENT
DTSTART;TZID=Europe/Rome:20181123T093000
DTEND;TZID=Europe/Rome:20181123T133000
DTSTAMP:20260422T170407
CREATED:20181031T090716Z
LAST-MODIFIED:20230324T105449Z
UID:5819-1542965400-1542979800@oli.consiglio.regione.toscana.it
SUMMARY:Riunione 23 novembre 2018
DESCRIPTION:Venerdì 23 novembre 2018 (h. 9\,30 – 13\,30) \n\nAttività parlamentari (Laura Morandi – Provincia autonoma di Trento) relazione e video\nSentenze ed ordinanze della Corte costituzionale. Regioni speciali e Province autonome (Carlo Sanna – Regione Sardegna) relazione e video\nProgetti di legge regionali di particolare interesse (Enzo Madonna – Regione Emilia-Romagna) – relazione e video\nNuovo programma legislativo della Commissione europea (Annalisa Menzani – Regione Emilia-Romagna) – slide e video\nSentenze ed ordinanze della Corte costituzionale. Regioni ordinarie (Enrico Righi – Regione Toscana) relazione\n\nVerbale della riunione del 22 e 23 novembre 2018
URL:https://oli.consiglio.regione.toscana.it/event/riunione-23-novembre-2018/
LOCATION:Sede della Regione Toscana\, via Parigi n. 11\, Roma\, Italia
END:VEVENT
END:VCALENDAR