BEGIN:VCALENDAR
VERSION:2.0
PRODID:-//OLI - ECPv5.14.0.4//NONSGML v1.0//EN
CALSCALE:GREGORIAN
METHOD:PUBLISH
X-WR-CALNAME:OLI
X-ORIGINAL-URL:https://oli.consiglio.regione.toscana.it
X-WR-CALDESC:Eventi per OLI
BEGIN:VTIMEZONE
TZID:Europe/Rome
BEGIN:DAYLIGHT
TZOFFSETFROM:+0100
TZOFFSETTO:+0200
TZNAME:CEST
DTSTART:20140330T010000
END:DAYLIGHT
BEGIN:STANDARD
TZOFFSETFROM:+0200
TZOFFSETTO:+0100
TZNAME:CET
DTSTART:20141026T010000
END:STANDARD
END:VTIMEZONE
BEGIN:VEVENT
DTSTART;TZID=Europe/Rome:20140221T093000
DTEND;TZID=Europe/Rome:20140221T133000
DTSTAMP:20260422T170353
CREATED:20140428T111054Z
LAST-MODIFIED:20230324T105623Z
UID:153-1392975000-1392989400@oli.consiglio.regione.toscana.it
SUMMARY:Riunione 21 febbraio 2014
DESCRIPTION:Venerdì 21 febbraio\, 2014 (h. 9\,30 – 13\,30) \nApertura lavori (Gemma Pastore) – video \n\nCorte dei Conti e Regioni. Nuovi controlli e limiti della giurisdizione contabile. (Prof. Marcello Cecchetti – professore ordinario di diritto pubblico\, Università degli studi di Sassari) – video \nRiflessioni sulla sentenza della Corte costituzionale 1/2014. Prospettive di riforma dei sistemi elettorali nazionale e regionali. Dibattito (Giovanni Giardino\, Gianguido D’Alberto – Regione Abruzzo) – relazione – video \nSentenze ed ordinanze della Corte costituzionale. Regioni speciali e Province autonome (Camilla Toresini – Regione Friuli Venezia Giulia) – relazione – video\nSentenze ed ordinanze della Corte costituzionale. Regioni ordinarie (Annalisa Pelucchi – Regione Lombardia) – relazione – video\nAtti dell’Unione europea di interesse regionale (Barbara Attili – Regione Emilia-Romagna) – relazione\n\nVerbale delle riunioni del 20 e 21 febbraio 2014 \nAllegati: \nElenco dei presenti alla riunione del 21 febbraio 2014
URL:https://oli.consiglio.regione.toscana.it/event/riunione-21-febbraio-2014/
LOCATION:Sede della Regione Toscana\, via Parigi n. 11\, Roma\, Italia
END:VEVENT
END:VCALENDAR