BEGIN:VCALENDAR
VERSION:2.0
PRODID:-//OLI - ECPv5.14.0.4//NONSGML v1.0//EN
CALSCALE:GREGORIAN
METHOD:PUBLISH
X-WR-CALNAME:OLI
X-ORIGINAL-URL:https://oli.consiglio.regione.toscana.it
X-WR-CALDESC:Eventi per OLI
BEGIN:VTIMEZONE
TZID:Europe/Rome
BEGIN:DAYLIGHT
TZOFFSETFROM:+0100
TZOFFSETTO:+0200
TZNAME:CEST
DTSTART:20190331T010000
END:DAYLIGHT
BEGIN:STANDARD
TZOFFSETFROM:+0200
TZOFFSETTO:+0100
TZNAME:CET
DTSTART:20191027T010000
END:STANDARD
END:VTIMEZONE
BEGIN:VEVENT
DTSTART;TZID=Europe/Rome:20190920T093000
DTEND;TZID=Europe/Rome:20190920T133000
DTSTAMP:20260422T164741
CREATED:20190712T104741Z
LAST-MODIFIED:20230324T105429Z
UID:6154-1568971800-1568986200@oli.consiglio.regione.toscana.it
SUMMARY:Riunione 20 settembre 2019
DESCRIPTION:Venerdì 20 settembre 2019 (h. 9\,30 – 13\,30) \n\nAttività parlamentare. Verso una stagione di riforme (Laura Morandi – Provincia autonoma di Trento) – relazione e video\nGiurisprudenza di merito di interesse regionale (Franco Botteon – Regione Veneto) – relazione e video\nSentenze ed ordinanze della Corte costituzionale. Regioni ordinarie (Enrico Righi – Regione Toscana) – relazione e video\nSentenze ed ordinanze della Corte costituzionale. Regioni speciali e province autonome – aprile/settembre 2019 (Carlo Sanna – Regione Sardegna) – relazione e video\nAtti dell’Unione europea di interesse regionale (Lara Cirielli – Regione Emilia-Romagna) – video e relazione\n\nVerbale della riunione del 19 e 20 settembre 2019
URL:https://oli.consiglio.regione.toscana.it/event/riunione-20-settembre-2019/
LOCATION:Sede della Regione Toscana\, via Parigi n. 11\, Roma\, Italia
END:VEVENT
END:VCALENDAR