BEGIN:VCALENDAR
VERSION:2.0
PRODID:-//OLI - ECPv5.14.0.4//NONSGML v1.0//EN
CALSCALE:GREGORIAN
METHOD:PUBLISH
X-WR-CALNAME:OLI
X-ORIGINAL-URL:https://oli.consiglio.regione.toscana.it
X-WR-CALDESC:Eventi per OLI
BEGIN:VTIMEZONE
TZID:Europe/Rome
BEGIN:DAYLIGHT
TZOFFSETFROM:+0100
TZOFFSETTO:+0200
TZNAME:CEST
DTSTART:20200329T010000
END:DAYLIGHT
BEGIN:STANDARD
TZOFFSETFROM:+0200
TZOFFSETTO:+0100
TZNAME:CET
DTSTART:20201025T010000
END:STANDARD
END:VTIMEZONE
BEGIN:VEVENT
DTSTART;TZID=Europe/Rome:20200612T093000
DTEND;TZID=Europe/Rome:20200612T133000
DTSTAMP:20260422T170218
CREATED:20200429T144641Z
LAST-MODIFIED:20230324T105429Z
UID:6519-1591954200-1591968600@oli.consiglio.regione.toscana.it
SUMMARY:Riunione 12 giugno 2020 (RIUNIONE IN VIDEOCONFERENZA)
DESCRIPTION:Venerdì 12 giugno 2020 (h. 9\,30 – 13\,30)        \n\nAttività parlamentare. La stagione dell’emergenza (Laura Morandi – Provincia autonoma di Trento) – video e relazione\nGiurisprudenza di merito di interesse regionale (Franco Botteon e Stefania Del Negro – Regione Veneto)  – relazione Botteon – video e relazione Del Negro\nSentenze ed ordinanze della Corte costituzionale. Regioni speciali e province autonome. Febbraio-giugno 2020 (Carlo Sanna – Regione Sardegna) – video e relazione\nProgetti di legge regionali di particolare interesse (Enzo Madonna – Regione Emilia-Romagna) – video e relazione\nAtti dell’Unione europea di interesse regionale – aggiornamento al 12 giugno 2020 (Lara Cirielli – Regione Emilia-Romagna) – video e relazione\nSentenze ed ordinanze della Corte costituzionale. Regioni ordinarie (Enrico Righi – Regione Toscana) – video e relazione\n\nVerbale della riunione del 12 giugno 2020 \n 
URL:https://oli.consiglio.regione.toscana.it/event/riunione-12-giugno-2020/
END:VEVENT
END:VCALENDAR