BEGIN:VCALENDAR
VERSION:2.0
PRODID:-//OLI - ECPv5.14.0.4//NONSGML v1.0//EN
CALSCALE:GREGORIAN
METHOD:PUBLISH
X-WR-CALNAME:OLI
X-ORIGINAL-URL:https://oli.consiglio.regione.toscana.it
X-WR-CALDESC:Eventi per OLI
BEGIN:VTIMEZONE
TZID:Europe/Rome
BEGIN:DAYLIGHT
TZOFFSETFROM:+0100
TZOFFSETTO:+0200
TZNAME:CEST
DTSTART:20220327T010000
END:DAYLIGHT
BEGIN:STANDARD
TZOFFSETFROM:+0200
TZOFFSETTO:+0100
TZNAME:CET
DTSTART:20221030T010000
END:STANDARD
END:VTIMEZONE
BEGIN:VEVENT
DTSTART;TZID=Europe/Rome:20220210T143000
DTEND;TZID=Europe/Rome:20220210T180000
DTSTAMP:20260422T170526
CREATED:20211220T111736Z
LAST-MODIFIED:20230324T105404Z
UID:7776-1644503400-1644516000@oli.consiglio.regione.toscana.it
SUMMARY:Riunione 10 febbraio 2022 (in videoconferenza)
DESCRIPTION:Giovedì 10 febbraio 2022 (h. 14.30 – 18.00) \n\nLo stato di attuazione del PNRR e le principali novità normativa più recenti (Luigi Fucito – Ufficio ricerche sulle questioni regionali e delle autonomie locali del Senato) – video\n\n\nAggiornamento relativo all’attuazione della Missione 1 – Componente 1 – Sub investimento 2.2.1 “Assistenza tecnica a livello centrale e locale” del PNRR” (art. 9\, comma 2\, d.l. 80/2021): selezione e reclutamento degli esperti (Laura Faina – Regione Piemonte) – video\n\n\nFirme e certificati elettorali digitali per le candidature e per le proposte di referendum e leggi d’iniziativa popolare. Sperimentazione del voto elettronico (Stefano Cavatorti – Regione Emilia-Romagna) – relazione e video\n\nVerbale della riunione del 10 e 11 febbraio 2022
URL:https://oli.consiglio.regione.toscana.it/event/riunione-10-febbraio-2021-in-videoconferenza/
END:VEVENT
END:VCALENDAR